BEGIN:VCALENDAR
VERSION:2.0
PRODID:-//Objectif Image Montpellier - ECPv6.15.20//NONSGML v1.0//EN
CALSCALE:GREGORIAN
METHOD:PUBLISH
X-ORIGINAL-URL:https://objectif-image-montpellier.com
X-WR-CALDESC:Évènements pour Objectif Image Montpellier
REFRESH-INTERVAL;VALUE=DURATION:PT1H
X-Robots-Tag:noindex
X-PUBLISHED-TTL:PT1H
BEGIN:VTIMEZONE
TZID:Europe/Paris
BEGIN:DAYLIGHT
TZOFFSETFROM:+0100
TZOFFSETTO:+0200
TZNAME:CEST
DTSTART:20250330T010000
END:DAYLIGHT
BEGIN:STANDARD
TZOFFSETFROM:+0200
TZOFFSETTO:+0100
TZNAME:CET
DTSTART:20251026T010000
END:STANDARD
BEGIN:DAYLIGHT
TZOFFSETFROM:+0100
TZOFFSETTO:+0200
TZNAME:CEST
DTSTART:20260329T010000
END:DAYLIGHT
BEGIN:STANDARD
TZOFFSETFROM:+0200
TZOFFSETTO:+0100
TZNAME:CET
DTSTART:20261025T010000
END:STANDARD
BEGIN:DAYLIGHT
TZOFFSETFROM:+0100
TZOFFSETTO:+0200
TZNAME:CEST
DTSTART:20270328T010000
END:DAYLIGHT
BEGIN:STANDARD
TZOFFSETFROM:+0200
TZOFFSETTO:+0100
TZNAME:CET
DTSTART:20271031T010000
END:STANDARD
END:VTIMEZONE
BEGIN:VEVENT
DTSTART;TZID=Europe/Paris:20260106T190000
DTEND;TZID=Europe/Paris:20260106T210000
DTSTAMP:20260421T195455
CREATED:20250806T152405Z
LAST-MODIFIED:20250912T184134Z
UID:20285-1767726000-1767733200@objectif-image-montpellier.com
SUMMARY:Poses longues - 1/2 - Mardi 06 Janvier 2026 à 19h -
DESCRIPTION:Dénomination de l’atelier :  Poses longues \n  \nObjectifs de l’atelier : \nTravailler la pose longue\, en photographie de paysage ou en urbain \nPériode : Prévoir l’automne ou l’hiver où la lumière est plus faible et donc propice à la pose longue \n  \nPré requis pour participer à l’atelier :  \nAvoir un boitier reflex ou un boitier qui débraye en manuel\, connaître toutes les fonctions importantes de son appareil photo. Avoir un trépied et filtre ND \n  \nDéroulement de l’atelier :                                                    \n“L’atelier se déroulera en 2 temps avec une partie théorique au club : présentation du matériel adéquat qu’il faut\, quel boîtier\, quel objectif\, les filtres\, les pieds photo\, les réglages importants à effectuer sur son appareil\, (sensibilité\, blocage du miroir)\, la télécommande\, les temps de pose\, les problèmes de bruits numériques engendrés par les poses longues…travail en couleur ou noir et blanc ? \nCette présentation pourra durer 2h maximum avec présentation d’images je présenterai des images réalisées avec cette technique et aussi les travaux de quelques photographes qui travaillent le sujet et des sites internet qui en parlent (pas de limite maxi du nombre de participants). \nLe week-end qui suit nous irons sur le terrain pour tester la pose longue\, ce qui peut prendre un après midi\, on peut aussi prévoir plusieurs sorties si les gens adhèrent. (5 stagiaires minimum et 10 stagiaires maximum) \n  \nDate : Mardi 06 Janvier 2026 à 19h \nDurée de l’atelier : 2h \nLieu de l’atelier : Mur Rouge \nNombre de participants : 5 mini\, 10 maxi \nDate limite d’inscription :  \nMatériels et logiciels : Reflex\, pied photo\, filtres neutres  \nResponsable :  Hervé Colin : 06.66.16.09.85 \nParticipation financière :   O € \n                                                               \n  \n  \n  \n  \n 
URL:https://objectif-image-montpellier.com/charancy/poses-longues-mardi-06-janvier-a-19h/
LOCATION:Exterieur
CATEGORIES:Formations
ATTACH;FMTTYPE=image/webp:https://objectif-image-montpellier.com/wp-content/uploads/2024/01/Ateliers.webp
ORGANIZER;CN="Herv%C3%A9 Colin":MAILTO:rvcolin34@gmail.com
END:VEVENT
BEGIN:VEVENT
DTSTART;TZID=Europe/Paris:20260111T140000
DTEND;TZID=Europe/Paris:20260111T200000
DTSTAMP:20260421T195455
CREATED:20250806T153510Z
LAST-MODIFIED:20250912T184210Z
UID:20293-1768140000-1768161600@objectif-image-montpellier.com
SUMMARY:Poses longues - 2/2 - Dimanche 11 Janvier 2026 à 14h -
DESCRIPTION:Dénomination de l’atelier :  Poses longues \n  \nObjectifs de l’atelier : \nTravailler la pose longue\, en photographie de paysage ou en urbain \nPériode : Prévoir l’automne ou l’hiver où la lumière est plus faible et donc propice à la pose longue \n  \nPré requis pour participer à l’atelier :  \nAvoir un boitier reflex ou un boitier qui débraye en manuel\, connaître toutes les fonctions importantes de son appareil photo. Avoir un trépied et filtre ND \n  \nDéroulement de l’atelier :                                                    \n“L’atelier se déroulera en 2 temps avec une partie théorique au club : présentation du matériel adéquat qu’il faut\, quel boîtier\, quel objectif\, les filtres\, les pieds photo\, les réglages importants à effectuer sur son appareil\, (sensibilité\, blocage du miroir)\, la télécommande\, les temps de pose\, les problèmes de bruits numériques engendrés par les poses longues…travail en couleur ou noir et blanc ? \nCette présentation pourra durer 2h maximum avec présentation d’images je présenterai des images réalisées avec cette technique et aussi les travaux de quelques photographes qui travaillent le sujet et des sites internet qui en parlent (pas de limite maxi du nombre de participants). \nLe week-end qui suit nous irons sur le terrain pour tester la pose longue\, ce qui peut prendre un après midi\, on peut aussi prévoir plusieurs sorties si les gens adhèrent. (5 stagiaires minimum et 10 stagiaires maximum) \n  \nDate : Dimanche 11 Janvier 2026 à 14h \nDurée de l’atelier : 6h \nLieu de l’atelier : Extérieur : défini par Hervé lors de la séance du Mardi 06 Janvier \nNombre de participants : 5 mini\, 10 maxi \nDate limite d’inscription :  \nMatériels et logiciels : Reflex\, pied photo\, filtres neutres  \nResponsable :  Hervé Colin : 06.66.16.09.85 \nParticipation financière :   O € \n                                                               \n  \n  \n  \n  \n 
URL:https://objectif-image-montpellier.com/charancy/poses-longues-samedi-10-janvier-2026-a-14h/
LOCATION:Exterieur
CATEGORIES:Formations
ATTACH;FMTTYPE=image/webp:https://objectif-image-montpellier.com/wp-content/uploads/2024/01/Ateliers.webp
ORGANIZER;CN="Herv%C3%A9 Colin":MAILTO:rvcolin34@gmail.com
END:VEVENT
BEGIN:VEVENT
DTSTART;TZID=Europe/Paris:20260124T090000
DTEND;TZID=Europe/Paris:20260124T170000
DTSTAMP:20260421T195455
CREATED:20250806T150536Z
LAST-MODIFIED:20251127T103239Z
UID:20273-1769245200-1769274000@objectif-image-montpellier.com
SUMMARY:La chambre photographique - Samedi 24 Janvier 2026 à 9h00 - 1/4 -
DESCRIPTION:Dénomination de l’atelier :   La chambre photographique \n  \n⚠️ INFORMATION IMPORTANTE ⚠️ \n\nPour information\, l’atelier « Chambre photographique » se compose de quatre modules progressifs et indivisibles les 24 janvier\, 28 février\, 28 mars et 25 avril et consistent à l’utilisation de cet outil depuis sa présentation jusqu’au développement complet des films suite aux prises de vues réalisées pendant cet atelier.\nIl n’est donc pas possible de s’inscrire uniquement sur une seule de ces dates\n\n  \nObjectifs de l’atelier :  \nPrésentation de la chambre photographique et démonstration pratique de ses fonctionnalités : \n\nDécentrements\nRedressement des perspectives\nChoix de la zone de mise au point\n\nPrérequis pour participer à l’atelier :  \nAvoir des notions élémentaires de prises de vues \n  \nDéroulement de l’atelier :  \n1- Première partie : \n– Présentation des différents éléments composant le matériel et les accessoires \n– Principe de chargement des plan-films \n– Travaux pratiques sur les différentes possibilités de prises de vues (6 ou 8 participants par session)  \n2- Deuxième partie : (avec participation pour les coûts de produits) : \n– Prises de vues à la chambre par les stagiaires \n– Développement des plan-films \n– Scan des plan-film \n  \nDate : Samedi 24 Janvier 2026 à 9h00 \nDurée de l’atelier : Journée \nLieu de l’atelier : Mur Rouge \nNombre de participants : 8 \nDate limite d’inscription :  \nMatériels et logiciels : Fournis pour l’Atelier \nResponsable :  J.M Céas\, Eric Soulies :   jm.ceas@wanadoo.fr \nParticipation financière :    20 € \n  \nContact et Renseignements : \nJ.M Ceas: jm.ceas@wanadoo.fr \n 
URL:https://objectif-image-montpellier.com/charancy/la-chambre-photographique-samedi-24-janvier-2026-a-9h00/
LOCATION:MUR ROUGE\, 1 Ter Rue Charancy\, Montpelier\, France
CATEGORIES:Formations
ATTACH;FMTTYPE=image/webp:https://objectif-image-montpellier.com/wp-content/uploads/2024/01/Ateliers.webp
ORGANIZER;CN="Eric Soules":MAILTO:eric.soulies@orange.fr
END:VEVENT
END:VCALENDAR