BEGIN:VCALENDAR
VERSION:2.0
PRODID:-//Objectif Image Montpellier - ECPv6.15.20//NONSGML v1.0//EN
CALSCALE:GREGORIAN
METHOD:PUBLISH
X-ORIGINAL-URL:https://objectif-image-montpellier.com
X-WR-CALDESC:Évènements pour Objectif Image Montpellier
REFRESH-INTERVAL;VALUE=DURATION:PT1H
X-Robots-Tag:noindex
X-PUBLISHED-TTL:PT1H
BEGIN:VTIMEZONE
TZID:Europe/Paris
BEGIN:DAYLIGHT
TZOFFSETFROM:+0100
TZOFFSETTO:+0200
TZNAME:CEST
DTSTART:20240331T010000
END:DAYLIGHT
BEGIN:STANDARD
TZOFFSETFROM:+0200
TZOFFSETTO:+0100
TZNAME:CET
DTSTART:20241027T010000
END:STANDARD
BEGIN:DAYLIGHT
TZOFFSETFROM:+0100
TZOFFSETTO:+0200
TZNAME:CEST
DTSTART:20250330T010000
END:DAYLIGHT
BEGIN:STANDARD
TZOFFSETFROM:+0200
TZOFFSETTO:+0100
TZNAME:CET
DTSTART:20251026T010000
END:STANDARD
BEGIN:DAYLIGHT
TZOFFSETFROM:+0100
TZOFFSETTO:+0200
TZNAME:CEST
DTSTART:20260329T010000
END:DAYLIGHT
BEGIN:STANDARD
TZOFFSETFROM:+0200
TZOFFSETTO:+0100
TZNAME:CET
DTSTART:20261025T010000
END:STANDARD
END:VTIMEZONE
BEGIN:VEVENT
DTSTART;TZID=Europe/Paris:20251010T093000
DTEND;TZID=Europe/Paris:20251012T173000
DTSTAMP:20260421T135718
CREATED:20250906T160305Z
LAST-MODIFIED:20250906T164555Z
UID:20798-1760088600-1760290200@objectif-image-montpellier.com
SUMMARY:Stage Gildas Lepetit-Castel  « LA VILLE À TRAVERS LES PAGES » du vendredi 10 octobre au dimanche 12 octobre.
DESCRIPTION:Stage Gildas « LA VILLE À TRAVERS LES PAGES » \nLe stage se déroulera du vendredi 10 octobre au dimanche 12 octobre. \nDéroulé des 3 jours : \nVendredi de 9h30 à18h :\nRendez-vous au club explication des objectifs du stage\nDépart sur le terrain pour les prises de vues selon thématiques imposées (Quartier libre pour le repas du midi).\nL’après-midi suite des prises de vues.\nRetour club pour visionnage des premières images. \nSamedi 9h30 à 18h :\nRendez-vous directement sur le terrain (point de RDV définit la veille)\nQuartier libre pour le repas du midi\nSuite des prises de vues l’après-midi.\nRetour pour visionnage des images et pré-éditing. \nDimanche 9h30 à 17h30 :\nRendez-vous au club pour terminer / valider l’éditing.\nImpression des images\nRepas sur place (prévoir piquenique)\nL’après-midi mise en page collective \nLe matériel à prévoir : \nVendredi et samedi : appareil avec si possible focale fixe\, si zoom pas de souci nous éviterons juste de jouer avec le zoom\nAu minimum une batterie de rechange\nDe bonnes chaussures de marche\nUn téléphone chargé avec idéalement whatsApp d’installé\nUn PC portable peut être utile pour le tri des images en fin de séance.\nPour le dimanche si possible un PC portable + clef USB. \nGildas Lepetit-Castel / www.gildas-lepetit-castel.com \nCondition d’inscription : \nÊtre à jour de sa cotisation et être inscrit avant le 30 juin 2025.\n“Payer une participation de 50€ avant le Jeudi 2 octobre 2025”.\n▶ Si vous ne vous présentez pas au stage le 10 octobre ou que vous annuliez votre inscription le club conservera votre participation au titre de dédommagement (sauf cas de force majeure). \nMoyens de paiement : \n\nVirement : IBAN : FR94 2004 1010 0900 0445 7R03 092 | BIC : PSSTFRPPMON\nChèque ou espèces à remettre au plus tard à la séance du jeudi 2 octobre
URL:https://objectif-image-montpellier.com/charancy/stage-gildas-lepetit-castel-la-ville-a-travers-les-pages-du-vendredi-10-octobre-au-dimanche-12-octobre/
LOCATION:MUR ROUGE\, 1 Ter Rue Charancy\, Montpelier\, France
CATEGORIES:Stages
ATTACH;FMTTYPE=image/avif:https://objectif-image-montpellier.com/wp-content/uploads/2025/09/Stage-1.avif
ORGANIZER;CN="Fran%C3%A7ois Salgas":MAILTO:francois.salgas@gmail.com
END:VEVENT
END:VCALENDAR