BEGIN:VCALENDAR
VERSION:2.0
PRODID:-//Objectif Image Montpellier - ECPv6.15.20//NONSGML v1.0//EN
CALSCALE:GREGORIAN
METHOD:PUBLISH
X-WR-CALNAME:Objectif Image Montpellier
X-ORIGINAL-URL:https://objectif-image-montpellier.com
X-WR-CALDESC:Évènements pour Objectif Image Montpellier
REFRESH-INTERVAL;VALUE=DURATION:PT1H
X-Robots-Tag:noindex
X-PUBLISHED-TTL:PT1H
BEGIN:VTIMEZONE
TZID:Europe/Paris
BEGIN:DAYLIGHT
TZOFFSETFROM:+0100
TZOFFSETTO:+0200
TZNAME:CEST
DTSTART:20240331T010000
END:DAYLIGHT
BEGIN:STANDARD
TZOFFSETFROM:+0200
TZOFFSETTO:+0100
TZNAME:CET
DTSTART:20241027T010000
END:STANDARD
BEGIN:DAYLIGHT
TZOFFSETFROM:+0100
TZOFFSETTO:+0200
TZNAME:CEST
DTSTART:20250330T010000
END:DAYLIGHT
BEGIN:STANDARD
TZOFFSETFROM:+0200
TZOFFSETTO:+0100
TZNAME:CET
DTSTART:20251026T010000
END:STANDARD
BEGIN:DAYLIGHT
TZOFFSETFROM:+0100
TZOFFSETTO:+0200
TZNAME:CEST
DTSTART:20260329T010000
END:DAYLIGHT
BEGIN:STANDARD
TZOFFSETFROM:+0200
TZOFFSETTO:+0100
TZNAME:CET
DTSTART:20261025T010000
END:STANDARD
END:VTIMEZONE
BEGIN:VEVENT
DTSTART;TZID=Europe/Paris:20251004T090000
DTEND;TZID=Europe/Paris:20251004T120000
DTSTAMP:20260423T171910
CREATED:20250806T143955Z
LAST-MODIFIED:20250925T093333Z
UID:20240-1759568400-1759579200@objectif-image-montpellier.com
SUMMARY:Tous ces réglages sur mon appareil\, est-ce que ça peut me servir à créer des photos ? - Samedi 04 Octobre à 9h00 -
DESCRIPTION:Dénomination de la formation : Tous ces réglages sur mon appareil\, est-ce que ça peut me servir à créer des photos ? \n  \nObjectifs de l’atelier : \n \nUn appareil photo\, c’est plein de petits boutons de réglage. Est-ce qu’ils sont là pour me gâcher la vie ou pour créer la photo que j’ai envie de faire ? Telle est la question existentielle à laquelle cet atelier peut apporter une réponse. \n \nDans cet atelier\, je veux vous apprendre\, au-delà de la technique proprement dite\, à comprendre les conséquences de vos choix techniques\, vous les faire voir au travers d’exercices très simples\, vous faire visualiser sur vos photos le résultat de choix techniques différents de façon à ce que par la suite\, vous soyez capables de prendre les bonnes décisions instantanément.  \nC’est au travers des différents exercices que vous apprendrez à apprivoiser ces outils. \nL’atelier se déroule sur plusieurs séances\, une fois par mois sur toute l’année\, la participation à la première séance est obligatoire. \n \n \n  \n\n \n\n\n\n  \n\n\nDate : Samedi 04 Octobre à 9h00 \nDurée de l’atelier : Matinée \nLieu de l’atelier : Mur Rouge \nNombre de participants : 10   \nDate limite d’inscription :  \nMatériels et logiciels : Appareil photo avec réglages vitesse et diaphragme. \nResponsable : Jacques Villière : jacques.villiere@sfr.fr  \nParticipation financière :     O € \n 
URL:https://objectif-image-montpellier.com/charancy/tous-ces-reglages-sur-mon-appareil-est-ce-que-ca-peut-me-servir-a-creer-des-photos-samedi-04-octobre-a-9h00/
LOCATION:MUR ROUGE\, 1 Ter Rue Charancy\, Montpelier\, France
CATEGORIES:Ateliers
ATTACH;FMTTYPE=image/webp:https://objectif-image-montpellier.com/wp-content/uploads/2024/01/Ateliers.webp
ORGANIZER;CN="Jacques Villi%C3%A8re":MAILTO:jacques.villiere@sfr.fr
END:VEVENT
BEGIN:VEVENT
DTSTART;TZID=Europe/Paris:20251010T093000
DTEND;TZID=Europe/Paris:20251012T173000
DTSTAMP:20260423T171910
CREATED:20250906T160305Z
LAST-MODIFIED:20250906T164555Z
UID:20798-1760088600-1760290200@objectif-image-montpellier.com
SUMMARY:Stage Gildas Lepetit-Castel  « LA VILLE À TRAVERS LES PAGES » du vendredi 10 octobre au dimanche 12 octobre.
DESCRIPTION:Stage Gildas « LA VILLE À TRAVERS LES PAGES » \nLe stage se déroulera du vendredi 10 octobre au dimanche 12 octobre. \nDéroulé des 3 jours : \nVendredi de 9h30 à18h :\nRendez-vous au club explication des objectifs du stage\nDépart sur le terrain pour les prises de vues selon thématiques imposées (Quartier libre pour le repas du midi).\nL’après-midi suite des prises de vues.\nRetour club pour visionnage des premières images. \nSamedi 9h30 à 18h :\nRendez-vous directement sur le terrain (point de RDV définit la veille)\nQuartier libre pour le repas du midi\nSuite des prises de vues l’après-midi.\nRetour pour visionnage des images et pré-éditing. \nDimanche 9h30 à 17h30 :\nRendez-vous au club pour terminer / valider l’éditing.\nImpression des images\nRepas sur place (prévoir piquenique)\nL’après-midi mise en page collective \nLe matériel à prévoir : \nVendredi et samedi : appareil avec si possible focale fixe\, si zoom pas de souci nous éviterons juste de jouer avec le zoom\nAu minimum une batterie de rechange\nDe bonnes chaussures de marche\nUn téléphone chargé avec idéalement whatsApp d’installé\nUn PC portable peut être utile pour le tri des images en fin de séance.\nPour le dimanche si possible un PC portable + clef USB. \nGildas Lepetit-Castel / www.gildas-lepetit-castel.com \nCondition d’inscription : \nÊtre à jour de sa cotisation et être inscrit avant le 30 juin 2025.\n“Payer une participation de 50€ avant le Jeudi 2 octobre 2025”.\n▶ Si vous ne vous présentez pas au stage le 10 octobre ou que vous annuliez votre inscription le club conservera votre participation au titre de dédommagement (sauf cas de force majeure). \nMoyens de paiement : \n\nVirement : IBAN : FR94 2004 1010 0900 0445 7R03 092 | BIC : PSSTFRPPMON\nChèque ou espèces à remettre au plus tard à la séance du jeudi 2 octobre
URL:https://objectif-image-montpellier.com/charancy/stage-gildas-lepetit-castel-la-ville-a-travers-les-pages-du-vendredi-10-octobre-au-dimanche-12-octobre/
LOCATION:MUR ROUGE\, 1 Ter Rue Charancy\, Montpelier\, France
CATEGORIES:Stages
ATTACH;FMTTYPE=image/avif:https://objectif-image-montpellier.com/wp-content/uploads/2025/09/Stage-1.avif
ORGANIZER;CN="Fran%C3%A7ois Salgas":MAILTO:francois.salgas@gmail.com
END:VEVENT
BEGIN:VEVENT
DTSTART;TZID=Europe/Paris:20251028T190000
DTEND;TZID=Europe/Paris:20251028T210000
DTSTAMP:20260423T171910
CREATED:20250806T151739Z
LAST-MODIFIED:20250828T180758Z
UID:20282-1761678000-1761685200@objectif-image-montpellier.com
SUMMARY:CULTURE GÉNÉRALE-  C'est quoi la photographie ? - Mardi 28 Octobre 2025 à 19h -
DESCRIPTION:Culture Générale 2025/2026 \n« La culture pour un photographe est bien plus importante que la technique » 1933 Gisèle Freund \nCes soirées proposeront un tour d’horizon de l’Histoire de la photo. En pratiquement 200 ans d’existence\, l’évolution des techniques et des faits de sociétés ont conduit la photo d’une simple représentation du réel à une profusion d’images que nous ne pourrions regarder en une seule vie. On est passé d’une photographie précieuse à une photographie jetable qui caractérise notre société de consommation. Notre pratique photographique doit prendre conscience de ces évolutions. Elle doit aussi se nourrir du passé et le comprendre pour aborder ce XXIème siècle d’images. \n  \nC’est quoi la photographie : \nCulture générale\, projection\, un tour d’horizon de la photographie. Les sujets\, les thèmes etc… \n  \nUn mardi soir 19 h à 21 h \, Réunion mensuelle ouverte à tous. \n 
URL:https://objectif-image-montpellier.com/charancy/la-chambre-photographique-samedi-25-avril-2026-a-9h00/
LOCATION:MUR ROUGE\, 1 Ter Rue Charancy\, Montpelier\, France
CATEGORIES:Ateliers
ATTACH;FMTTYPE=image/webp:https://objectif-image-montpellier.com/wp-content/uploads/2024/01/Ateliers.webp
ORGANIZER;CN="Jean Michel Verdan":MAILTO:jmverdan@yahoo.fr
END:VEVENT
END:VCALENDAR