BEGIN:VCALENDAR
VERSION:2.0
PRODID:-//Objectif Image Montpellier - ECPv6.15.20//NONSGML v1.0//EN
CALSCALE:GREGORIAN
METHOD:PUBLISH
X-ORIGINAL-URL:https://objectif-image-montpellier.com
X-WR-CALDESC:Évènements pour Objectif Image Montpellier
REFRESH-INTERVAL;VALUE=DURATION:PT1H
X-Robots-Tag:noindex
X-PUBLISHED-TTL:PT1H
BEGIN:VTIMEZONE
TZID:Europe/Paris
BEGIN:DAYLIGHT
TZOFFSETFROM:+0100
TZOFFSETTO:+0200
TZNAME:CEST
DTSTART:20250330T010000
END:DAYLIGHT
BEGIN:STANDARD
TZOFFSETFROM:+0200
TZOFFSETTO:+0100
TZNAME:CET
DTSTART:20251026T010000
END:STANDARD
BEGIN:DAYLIGHT
TZOFFSETFROM:+0100
TZOFFSETTO:+0200
TZNAME:CEST
DTSTART:20260329T010000
END:DAYLIGHT
BEGIN:STANDARD
TZOFFSETFROM:+0200
TZOFFSETTO:+0100
TZNAME:CET
DTSTART:20261025T010000
END:STANDARD
BEGIN:DAYLIGHT
TZOFFSETFROM:+0100
TZOFFSETTO:+0200
TZNAME:CEST
DTSTART:20270328T010000
END:DAYLIGHT
BEGIN:STANDARD
TZOFFSETFROM:+0200
TZOFFSETTO:+0100
TZNAME:CET
DTSTART:20271031T010000
END:STANDARD
END:VTIMEZONE
BEGIN:VEVENT
DTSTART;TZID=Europe/Paris:20260421T190000
DTEND;TZID=Europe/Paris:20260421T210000
DTSTAMP:20260419T111912
CREATED:20250806T155748Z
LAST-MODIFIED:20260413T095914Z
UID:20313-1776798000-1776805200@objectif-image-montpellier.com
SUMMARY:CULTURE GÉNÉRALE- Histoire de la photo - 1/3 - Mardi 21 Avril 2026 à 19h -
DESCRIPTION:Culture Générale 2025/2026 \n« La culture pour un photographe est bien plus importante que la technique » 1933 Gisèle Freund \nCes soirées proposeront un tour d’horizon de l’Histoire de la photo. En pratiquement 200 ans d’existence\, l’évolution des techniques et des faits de sociétés ont conduit la photo d’une simple représentation du réel à une profusion d’images que nous ne pourrions regarder en une seule vie. On est passé d’une photographie précieuse à une photographie jetable qui caractérise notre société de consommation. Notre pratique photographique doit prendre conscience de ces évolutions. Elle doit aussi se nourrir du passé et le comprendre pour aborder ce XXIème siècle d’images. \n  \nHistoire de la photo en 3 séances : \nDe sa naissance jusqu’au XXème siècle.
URL:https://objectif-image-montpellier.com/charancy/jm-histoire-de-la-photo-mardi-21-avril-2026-a-19h/
LOCATION:MUR ROUGE\, 1 Ter Rue Charancy\, Montpelier\, France
CATEGORIES:Ateliers
ATTACH;FMTTYPE=image/webp:https://objectif-image-montpellier.com/wp-content/uploads/2024/01/Ateliers.webp
ORGANIZER;CN="Jean Michel Verdan":MAILTO:jmverdan@yahoo.fr
END:VEVENT
BEGIN:VEVENT
DTSTART;TZID=Europe/Paris:20260425T090000
DTEND;TZID=Europe/Paris:20260425T170000
DTSTAMP:20260419T111912
CREATED:20250808T010227Z
LAST-MODIFIED:20251127T103453Z
UID:20398-1777107600-1777136400@objectif-image-montpellier.com
SUMMARY:La chambre photographique - Samedi 25 Avril 2026 à 9h00 - 4/4 -
DESCRIPTION:Dénomination de l’atelier :   La chambre photographique \n  \n⚠️ INFORMATION IMPORTANTE ⚠️ \n\nPour information\, l’atelier « Chambre photographique » se compose de quatre modules progressifs et indivisibles les 24 janvier\, 28 février\, 28 mars et 25 avril et consistent à l’utilisation de cet outil depuis sa présentation jusqu’au développement complet des films suite aux prises de vues réalisées pendant cet atelier.\nIl n’est donc pas possible de s’inscrire uniquement sur une seule de ces dates\n\n  \nObjectifs de l’atelier :  \nPrésentation de la chambre photographique et démonstration pratique de ses fonctionnalités : \n\nDécentrements\nRedressement des perspectives\nChoix de la zone de mise au point\n\nPrérequis pour participer à l’atelier :  \nAvoir des notions élémentaires de prises de vues \n  \nDéroulement de l’atelier :  \n1- Première partie : \n– Présentation des différents éléments composant le matériel et les accessoires \n– Principe de chargement des plan-films \n– Travaux pratiques sur les différentes possibilités de prises de vues (6 ou 8 participants par session)  \n2- Deuxième partie : (avec participation pour les coûts de produits) : \n– Prises de vues à la chambre par les stagiaires \n– Développement des plan-films \n– Scan des plan-film \n  \nDate : Samedi 25 Avril 2026 à 9h00 \nDurée de l’atelier : Journée \nLieu de l’atelier : Mur Rouge \nNombre de participants : 8 \nDate limite d’inscription :  \nMatériels et logiciels : Fournis pour l’Atelier \nResponsable :  J.M Céas\, Eric Soulies :   jm.ceas@wanadoo.fr \nParticipation financière :    20 € \n  \nContact et Renseignements : \nJ.M Ceas: jm.ceas@wanadoo.fr \n 
URL:https://objectif-image-montpellier.com/charancy/la-chambre-photographique-samedi-25-avril-2026-a-9h00-2/
LOCATION:MUR ROUGE\, 1 Ter Rue Charancy\, Montpelier\, France
CATEGORIES:Formations
ATTACH;FMTTYPE=image/webp:https://objectif-image-montpellier.com/wp-content/uploads/2024/01/Ateliers.webp
ORGANIZER;CN="Jean-Michel C%C3%A9as":MAILTO:jm.ceas@wanadoo.fr
END:VEVENT
END:VCALENDAR